BEGIN:VCALENDAR
VERSION:2.0
PRODID:icalendar-ruby
CALSCALE:GREGORIAN
METHOD:PUBLISH
BEGIN:VEVENT
DTSTAMP:20260422T232427Z
UID:9-279645@stalfreds.org
DTSTART:20261025T070000Z
DTEND:20261025T083000Z
CLASS:PUBLIC
CREATED:20260423T072525
DESCRIPTION:Sunday 6pm service
LAST-MODIFIED:20260423T072525
LOCATION:St Alfred's Anglican Church
SUMMARY:Sunday 6pm service
URL;VALUE=URI:https://stalfreds.org/events/sunday-6pm-service/2026-10-25
END:VEVENT
END:VCALENDAR
