BEGIN:VCALENDAR
VERSION:2.0
PRODID:icalendar-ruby
CALSCALE:GREGORIAN
METHOD:PUBLISH
BEGIN:VEVENT
DTSTAMP:20260422T193048Z
UID:9-279496@stalfreds.org
DTSTART:20261004T070000Z
DTEND:20261004T083000Z
CLASS:PUBLIC
CREATED:20260423T043003
DESCRIPTION:Sunday 6pm service
LAST-MODIFIED:20260423T043003
LOCATION:St Alfred's Anglican Church
SUMMARY:Sunday 6pm service
URL;VALUE=URI:https://stalfreds.org/events/sunday-6pm-service/2026-10-04
END:VEVENT
END:VCALENDAR
