BEGIN:VCALENDAR
VERSION:2.0
PRODID:icalendar-ruby
CALSCALE:GREGORIAN
METHOD:PUBLISH
BEGIN:VEVENT
DTSTAMP:20260422T180959Z
UID:9-279349@stalfreds.org
DTSTART:20260927T080000Z
DTEND:20260927T093000Z
CLASS:PUBLIC
CREATED:20260423T013529
DESCRIPTION:Sunday 6pm service
LAST-MODIFIED:20260423T013529
LOCATION:St Alfred's Anglican Church
SUMMARY:Sunday 6pm service
URL;VALUE=URI:https://stalfreds.org/events/sunday-6pm-service/2026-09-27
END:VEVENT
END:VCALENDAR
