BEGIN:VCALENDAR
VERSION:2.0
PRODID:icalendar-ruby
CALSCALE:GREGORIAN
METHOD:PUBLISH
BEGIN:VEVENT
DTSTAMP:20260420T174833Z
UID:8-277675@stalfreds.org
DTSTART:20261031T230000Z
DTEND:20261101T003000Z
CLASS:PUBLIC
CREATED:20260421T033109
DESCRIPTION:Sunday 10am service
LAST-MODIFIED:20260421T033109
LOCATION:St Alfred's Anglican Church
SUMMARY:Sunday 10am service
URL;VALUE=URI:https://stalfreds.org/events/sunday-10am-service/2026-11-01
END:VEVENT
END:VCALENDAR
