BEGIN:VCALENDAR
VERSION:2.0
PRODID:icalendar-ruby
CALSCALE:GREGORIAN
METHOD:PUBLISH
BEGIN:VEVENT
DTSTAMP:20260420T162734Z
UID:8-277528@stalfreds.org
DTSTART:20261024T230000Z
DTEND:20261025T003000Z
CLASS:PUBLIC
CREATED:20260421T005656
DESCRIPTION:Sunday 10am service
LAST-MODIFIED:20260421T005656
LOCATION:St Alfred's Anglican Church
SUMMARY:Sunday 10am service
URL;VALUE=URI:https://stalfreds.org/events/sunday-10am-service/2026-10-25
END:VEVENT
END:VCALENDAR
