BEGIN:VCALENDAR
VERSION:2.0
PRODID:icalendar-ruby
CALSCALE:GREGORIAN
METHOD:PUBLISH
BEGIN:VEVENT
DTSTAMP:20260420T135551Z
UID:8-277380@stalfreds.org
DTSTART:20261010T230000Z
DTEND:20261011T003000Z
CLASS:PUBLIC
CREATED:20260420T222237
DESCRIPTION:Sunday 10am service
LAST-MODIFIED:20260420T222237
LOCATION:St Alfred's Anglican Church
SUMMARY:Sunday 10am service
URL;VALUE=URI:https://stalfreds.org/events/sunday-10am-service/2026-10-11
END:VEVENT
END:VCALENDAR
