BEGIN:VCALENDAR
VERSION:2.0
PRODID:icalendar-ruby
CALSCALE:GREGORIAN
METHOD:PUBLISH
BEGIN:VEVENT
DTSTAMP:20260420T110031Z
UID:8-277232@stalfreds.org
DTSTART:20260927T000000Z
DTEND:20260927T013000Z
CLASS:PUBLIC
CREATED:20260420T174601
DESCRIPTION:Sunday 10am service
LAST-MODIFIED:20260420T174601
LOCATION:St Alfred's Anglican Church
SUMMARY:Sunday 10am service
URL;VALUE=URI:https://stalfreds.org/events/sunday-10am-service/2026-09-27
END:VEVENT
END:VCALENDAR
